BEGIN:VCALENDAR
VERSION:2.0
PRODID:-//Andjar Firmansjah - ECPv6.15.20//NONSGML v1.0//EN
CALSCALE:GREGORIAN
METHOD:PUBLISH
X-WR-CALNAME:Andjar Firmansjah
X-ORIGINAL-URL:https://andjar.firmansjah.id
X-WR-CALDESC:Events for Andjar Firmansjah
REFRESH-INTERVAL;VALUE=DURATION:PT1H
X-Robots-Tag:noindex
X-PUBLISHED-TTL:PT1H
BEGIN:VTIMEZONE
TZID:Asia/Jakarta
BEGIN:STANDARD
TZOFFSETFROM:+0700
TZOFFSETTO:+0700
TZNAME:WIB
DTSTART:20190101T000000
END:STANDARD
END:VTIMEZONE
BEGIN:VEVENT
DTSTART;TZID=Asia/Jakarta:20201225T000000
DTEND;TZID=Asia/Jakarta:20201225T235959
DTSTAMP:20260421T132342
CREATED:20200422T153837Z
LAST-MODIFIED:20200422T153841Z
UID:643-1608854400-1608940799@andjar.firmansjah.id
SUMMARY:Hari Raya Natal
DESCRIPTION:Hari Raya Natal
URL:https://andjar.firmansjah.id/events/hari-raya-natal/
END:VEVENT
BEGIN:VEVENT
DTSTART;TZID=Asia/Jakarta:20201029T000000
DTEND;TZID=Asia/Jakarta:20201029T235959
DTSTAMP:20260421T132342
CREATED:20200422T153730Z
LAST-MODIFIED:20200422T153735Z
UID:641-1603929600-1604015999@andjar.firmansjah.id
SUMMARY:Maulid Nabi Muhammad SAW
DESCRIPTION:Maulid Nabi Muhammad SAW
URL:https://andjar.firmansjah.id/events/maulid-nabi-muhammad-saw/
END:VEVENT
BEGIN:VEVENT
DTSTART;TZID=Asia/Jakarta:20200820T000000
DTEND;TZID=Asia/Jakarta:20200820T235959
DTSTAMP:20260421T132342
CREATED:20200422T153618Z
LAST-MODIFIED:20200422T153623Z
UID:639-1597881600-1597967999@andjar.firmansjah.id
SUMMARY:Tahun Baru Islam 1442H
DESCRIPTION:Tahun Baru Islam 1442H
URL:https://andjar.firmansjah.id/events/tahun-baru-islam-1442h/
END:VEVENT
BEGIN:VEVENT
DTSTART;TZID=Asia/Jakarta:20200817T000000
DTEND;TZID=Asia/Jakarta:20200817T235900
DTSTAMP:20260421T132342
CREATED:20200422T153452Z
LAST-MODIFIED:20200422T154927Z
UID:637-1597622400-1597708740@andjar.firmansjah.id
SUMMARY:Hari Kemerdekaan RI
DESCRIPTION:Hari Kemerdekaan Republik Indonesia\n\n\n\n\n\n\n\nP R O K L A M A S I Kami bangsa Indonesia dengan ini menjatakan kemerdekaan Indonesia. Hal-hal jang mengenai pemindahan kekoeasaan d.l.l.\, diselenggarakandengan tjara saksama dan dalam tempo jang sesingkat-singkatnja. Djakarta\, hari 17 boelan 8 tahoen 05 Atas nama bangsa Indonesia. Soekarno/Hatta.
URL:https://andjar.firmansjah.id/events/hari-kemerdekaan-ri/
END:VEVENT
BEGIN:VEVENT
DTSTART;TZID=Asia/Jakarta:20200731T000000
DTEND;TZID=Asia/Jakarta:20200731T235959
DTSTAMP:20260421T132342
CREATED:20200422T153307Z
LAST-MODIFIED:20200422T153311Z
UID:635-1596153600-1596239999@andjar.firmansjah.id
SUMMARY:Hari Raya Iedul Adha 1441H
DESCRIPTION:Hari Raya Iedul Adha 1441H
URL:https://andjar.firmansjah.id/events/hari-raya-iedul-adha-1441h/
END:VEVENT
BEGIN:VEVENT
DTSTART;TZID=Asia/Jakarta:20200601T000000
DTEND;TZID=Asia/Jakarta:20200601T235959
DTSTAMP:20260421T132342
CREATED:20200422T153133Z
LAST-MODIFIED:20200422T153138Z
UID:633-1590969600-1591055999@andjar.firmansjah.id
SUMMARY:Hari Lahir Pancasila
DESCRIPTION:Hari Lahir Pancasila
URL:https://andjar.firmansjah.id/events/hari-lahir-pancasila/
END:VEVENT
BEGIN:VEVENT
DTSTART;TZID=Asia/Jakarta:20200526T000000
DTEND;TZID=Asia/Jakarta:20200527T235959
DTSTAMP:20260421T132342
CREATED:20200422T153011Z
LAST-MODIFIED:20200422T153016Z
UID:631-1590451200-1590623999@andjar.firmansjah.id
SUMMARY:Cuti Bersama Lebaran
DESCRIPTION:Cuti Bersama Lebaran
URL:https://andjar.firmansjah.id/events/cuti-bersama-lebaran-2/
END:VEVENT
BEGIN:VEVENT
DTSTART;TZID=Asia/Jakarta:20200524T000000
DTEND;TZID=Asia/Jakarta:20200525T235959
DTSTAMP:20260421T132342
CREATED:20200422T152826Z
LAST-MODIFIED:20200422T152831Z
UID:629-1590278400-1590451199@andjar.firmansjah.id
SUMMARY:Hari Raya Iedul Fitri 1441H
DESCRIPTION:Hari Raya Iedul Fitri 1441H\, hari pertama dan kedua.
URL:https://andjar.firmansjah.id/events/hari-raya-iedul-fitri-1441h/
END:VEVENT
BEGIN:VEVENT
DTSTART;TZID=Asia/Jakarta:20200522T000000
DTEND;TZID=Asia/Jakarta:20200522T235959
DTSTAMP:20260421T132342
CREATED:20200422T152442Z
LAST-MODIFIED:20200422T152446Z
UID:627-1590105600-1590191999@andjar.firmansjah.id
SUMMARY:Cuti Bersama Lebaran
DESCRIPTION:Cuti bersama lebaran
URL:https://andjar.firmansjah.id/events/cuti-bersama-lebaran/
END:VEVENT
BEGIN:VEVENT
DTSTART;TZID=Asia/Jakarta:20200521T000000
DTEND;TZID=Asia/Jakarta:20200521T235959
DTSTAMP:20260421T132342
CREATED:20200422T151743Z
LAST-MODIFIED:20200422T151752Z
UID:625-1590019200-1590105599@andjar.firmansjah.id
SUMMARY:Kenaikan Isa Almasih
DESCRIPTION:Kenaikan Isa Almasih
URL:https://andjar.firmansjah.id/events/kenaikan-isa-almasih/
END:VEVENT
BEGIN:VEVENT
DTSTART;TZID=Asia/Jakarta:20200507T000000
DTEND;TZID=Asia/Jakarta:20200507T235959
DTSTAMP:20260421T132342
CREATED:20200422T150729Z
LAST-MODIFIED:20200422T150758Z
UID:621-1588809600-1588895999@andjar.firmansjah.id
SUMMARY:Hari Waisak
DESCRIPTION:Hari Waisak
URL:https://andjar.firmansjah.id/events/621/
END:VEVENT
BEGIN:VEVENT
DTSTART;TZID=Asia/Jakarta:20200501T000000
DTEND;TZID=Asia/Jakarta:20200501T235900
DTSTAMP:20260421T132342
CREATED:20200422T145957Z
LAST-MODIFIED:20200422T151221Z
UID:619-1588291200-1588377540@andjar.firmansjah.id
SUMMARY:Hari Buruh
DESCRIPTION:Hari Buruh Nasional
URL:https://andjar.firmansjah.id/events/hari-buruh/
END:VEVENT
END:VCALENDAR