BEGIN:VCALENDAR
VERSION:2.0
PRODID:-//Andjar Firmansjah - ECPv6.15.20//NONSGML v1.0//EN
CALSCALE:GREGORIAN
METHOD:PUBLISH
X-WR-CALNAME:Andjar Firmansjah
X-ORIGINAL-URL:https://andjar.firmansjah.id
X-WR-CALDESC:Events for Andjar Firmansjah
REFRESH-INTERVAL;VALUE=DURATION:PT1H
X-Robots-Tag:noindex
X-PUBLISHED-TTL:PT1H
BEGIN:VTIMEZONE
TZID:Asia/Jakarta
BEGIN:STANDARD
TZOFFSETFROM:+0700
TZOFFSETTO:+0700
TZNAME:WIB
DTSTART:20190101T000000
END:STANDARD
END:VTIMEZONE
BEGIN:VEVENT
DTSTART;VALUE=DATE:20220228
DTEND;VALUE=DATE:20220301
DTSTAMP:20260421T064317
CREATED:20220222T045257Z
LAST-MODIFIED:20220222T045257Z
UID:1064-1646006400-1646092799@andjar.firmansjah.id
SUMMARY:Isra Mikraj Nabi Muhammad SAW
DESCRIPTION:28 Februari: Isra Mikraj Nabi Muhammad SAW
URL:https://andjar.firmansjah.id/events/isra-mikraj-nabi-muhammad-saw-2/
END:VEVENT
BEGIN:VEVENT
DTSTART;VALUE=DATE:20220201
DTEND;VALUE=DATE:20220202
DTSTAMP:20260421T064317
CREATED:20220222T045212Z
LAST-MODIFIED:20220222T045212Z
UID:1062-1643673600-1643759999@andjar.firmansjah.id
SUMMARY:Tahun Baru Imlek 2573 Kongzili
DESCRIPTION:1 Februari: Tahun Baru Imlek 2573 Kongzili
URL:https://andjar.firmansjah.id/events/tahun-baru-imlek-2573-kongzili/
END:VEVENT
BEGIN:VEVENT
DTSTART;VALUE=DATE:20220101
DTEND;VALUE=DATE:20220102
DTSTAMP:20260421T064317
CREATED:20220222T044928Z
LAST-MODIFIED:20220222T045123Z
UID:1058-1640995200-1641081599@andjar.firmansjah.id
SUMMARY:Tahun Baru 2022
DESCRIPTION:1 Januari: Tahun Baru 2022 Masehi
URL:https://andjar.firmansjah.id/events/tahun-baru-2022/
END:VEVENT
BEGIN:VEVENT
DTSTART;VALUE=DATE:20211227
DTEND;VALUE=DATE:20211228
DTSTAMP:20260421T064317
CREATED:20201115T122708Z
LAST-MODIFIED:20201115T122708Z
UID:832-1640563200-1640649599@andjar.firmansjah.id
SUMMARY:Cuti Bersama Hari Raya Natal
DESCRIPTION:
URL:https://andjar.firmansjah.id/events/cuti-bersama-hari-raya-natal-2/
END:VEVENT
BEGIN:VEVENT
DTSTART;VALUE=DATE:20211225
DTEND;VALUE=DATE:20211226
DTSTAMP:20260421T064317
CREATED:20201115T122802Z
LAST-MODIFIED:20201115T122802Z
UID:834-1640390400-1640476799@andjar.firmansjah.id
SUMMARY:Hari Raya Natal
DESCRIPTION:
URL:https://andjar.firmansjah.id/events/hari-raya-natal-2/
END:VEVENT
BEGIN:VEVENT
DTSTART;VALUE=DATE:20211224
DTEND;VALUE=DATE:20211225
DTSTAMP:20260421T064317
CREATED:20201115T122609Z
LAST-MODIFIED:20201115T122609Z
UID:830-1640304000-1640390399@andjar.firmansjah.id
SUMMARY:Cuti Bersama Hari Raya Natal
DESCRIPTION:
URL:https://andjar.firmansjah.id/events/cuti-bersama-hari-raya-natal/
END:VEVENT
BEGIN:VEVENT
DTSTART;VALUE=DATE:20211019
DTEND;VALUE=DATE:20211020
DTSTAMP:20260421T064317
CREATED:20201115T122442Z
LAST-MODIFIED:20201115T122442Z
UID:828-1634601600-1634687999@andjar.firmansjah.id
SUMMARY:Maulid Nabi Muhammad SAW
DESCRIPTION:
URL:https://andjar.firmansjah.id/events/maulid-nabi-muhammad-saw-2/
END:VEVENT
BEGIN:VEVENT
DTSTART;VALUE=DATE:20210817
DTEND;VALUE=DATE:20210818
DTSTAMP:20260421T064317
CREATED:20201115T122332Z
LAST-MODIFIED:20201115T122332Z
UID:826-1629158400-1629244799@andjar.firmansjah.id
SUMMARY:Hari Kemerdekaan Republik Indonesia
DESCRIPTION:
URL:https://andjar.firmansjah.id/events/hari-kemerdekaan-republik-indonesia/
END:VEVENT
BEGIN:VEVENT
DTSTART;VALUE=DATE:20210810
DTEND;VALUE=DATE:20210811
DTSTAMP:20260421T064317
CREATED:20201115T122251Z
LAST-MODIFIED:20201115T122251Z
UID:824-1628553600-1628639999@andjar.firmansjah.id
SUMMARY:Tahun Baru Islam 1443H
DESCRIPTION:
URL:https://andjar.firmansjah.id/events/tahun-baru-islam-1443h/
END:VEVENT
BEGIN:VEVENT
DTSTART;VALUE=DATE:20210720
DTEND;VALUE=DATE:20210721
DTSTAMP:20260421T064317
CREATED:20201115T122212Z
LAST-MODIFIED:20201115T122212Z
UID:822-1626739200-1626825599@andjar.firmansjah.id
SUMMARY:Hari Raya Iedul Adha 1442H
DESCRIPTION:
URL:https://andjar.firmansjah.id/events/hari-raya-iedul-adha-1442h/
END:VEVENT
BEGIN:VEVENT
DTSTART;VALUE=DATE:20210601
DTEND;VALUE=DATE:20210602
DTSTAMP:20260421T064317
CREATED:20201115T122049Z
LAST-MODIFIED:20201115T122049Z
UID:820-1622505600-1622591999@andjar.firmansjah.id
SUMMARY:Hari Lahir Pancasila
DESCRIPTION:
URL:https://andjar.firmansjah.id/events/hari-lahir-pancasila-2/
END:VEVENT
BEGIN:VEVENT
DTSTART;VALUE=DATE:20210526
DTEND;VALUE=DATE:20210527
DTSTAMP:20260421T064317
CREATED:20201115T121917Z
LAST-MODIFIED:20201115T121917Z
UID:818-1621987200-1622073599@andjar.firmansjah.id
SUMMARY:Hari Raya Waisak 2565
DESCRIPTION:
URL:https://andjar.firmansjah.id/events/hari-raya-waisak-2565/
END:VEVENT
BEGIN:VEVENT
DTSTART;VALUE=DATE:20210517
DTEND;VALUE=DATE:20210520
DTSTAMP:20260421T064317
CREATED:20201115T121739Z
LAST-MODIFIED:20201115T121739Z
UID:816-1621209600-1621468799@andjar.firmansjah.id
SUMMARY:Cuti Bersama Hari Raya Iedul Fitri 1442H
DESCRIPTION:
URL:https://andjar.firmansjah.id/events/cuti-bersama-hari-raya-iedul-fitri-1442h-2/
END:VEVENT
BEGIN:VEVENT
DTSTART;VALUE=DATE:20210514
DTEND;VALUE=DATE:20210515
DTSTAMP:20260421T064317
CREATED:20201115T121306Z
LAST-MODIFIED:20201115T121306Z
UID:812-1620950400-1621036799@andjar.firmansjah.id
SUMMARY:Hari Raya Iedul Fitri 1442H
DESCRIPTION:
URL:https://andjar.firmansjah.id/events/hari-raya-iedul-fitri-1442h-2/
END:VEVENT
BEGIN:VEVENT
DTSTART;VALUE=DATE:20210513
DTEND;VALUE=DATE:20210514
DTSTAMP:20260421T064317
CREATED:20201115T121214Z
LAST-MODIFIED:20201115T121214Z
UID:810-1620864000-1620950399@andjar.firmansjah.id
SUMMARY:Hari Raya Iedul Fitri 1442H
DESCRIPTION:
URL:https://andjar.firmansjah.id/events/hari-raya-iedul-fitri-1442h/
END:VEVENT
BEGIN:VEVENT
DTSTART;VALUE=DATE:20210513
DTEND;VALUE=DATE:20210514
DTSTAMP:20260421T064317
CREATED:20201115T121040Z
LAST-MODIFIED:20201115T121040Z
UID:808-1620864000-1620950399@andjar.firmansjah.id
SUMMARY:Kenaikan Isa Al Masih
DESCRIPTION:
URL:https://andjar.firmansjah.id/events/kenaikan-isa-al-masih/
END:VEVENT
BEGIN:VEVENT
DTSTART;VALUE=DATE:20210512
DTEND;VALUE=DATE:20210513
DTSTAMP:20260421T064317
CREATED:20201115T121623Z
LAST-MODIFIED:20201115T121623Z
UID:814-1620777600-1620863999@andjar.firmansjah.id
SUMMARY:Cuti Bersama Hari Raya Iedul Fitri 1442H
DESCRIPTION:
URL:https://andjar.firmansjah.id/events/cuti-bersama-hari-raya-iedul-fitri-1442h/
END:VEVENT
BEGIN:VEVENT
DTSTART;VALUE=DATE:20210501
DTEND;VALUE=DATE:20210502
DTSTAMP:20260421T064317
CREATED:20201115T120901Z
LAST-MODIFIED:20201115T120901Z
UID:806-1619827200-1619913599@andjar.firmansjah.id
SUMMARY:Hari Buruh Internasional
DESCRIPTION:
URL:https://andjar.firmansjah.id/events/hari-buruh-internasional/
END:VEVENT
BEGIN:VEVENT
DTSTART;VALUE=DATE:20210402
DTEND;VALUE=DATE:20210403
DTSTAMP:20260421T064317
CREATED:20201115T115047Z
LAST-MODIFIED:20201115T115047Z
UID:803-1617321600-1617407999@andjar.firmansjah.id
SUMMARY:Wafat Isa Al Masih
DESCRIPTION:
URL:https://andjar.firmansjah.id/events/wafat-isa-al-masih/
END:VEVENT
BEGIN:VEVENT
DTSTART;VALUE=DATE:20210314
DTEND;VALUE=DATE:20210315
DTSTAMP:20260421T064317
CREATED:20201115T114915Z
LAST-MODIFIED:20201115T114915Z
UID:801-1615680000-1615766399@andjar.firmansjah.id
SUMMARY:Hari Raya Suci Nyepi Tahun Baru Saka 1943
DESCRIPTION:
URL:https://andjar.firmansjah.id/events/hari-raya-suci-nyepi-tahun-baru-saka-1943/
END:VEVENT
BEGIN:VEVENT
DTSTART;VALUE=DATE:20210312
DTEND;VALUE=DATE:20210313
DTSTAMP:20260421T064317
CREATED:20201115T114622Z
LAST-MODIFIED:20201115T114753Z
UID:798-1615507200-1615593599@andjar.firmansjah.id
SUMMARY:Cuti Bersama Isra Mikraj Nabi Muhammad SAW
DESCRIPTION:
URL:https://andjar.firmansjah.id/events/cuti-bersama-isra-miraj/
END:VEVENT
BEGIN:VEVENT
DTSTART;VALUE=DATE:20210311
DTEND;VALUE=DATE:20210312
DTSTAMP:20260421T064317
CREATED:20201115T114544Z
LAST-MODIFIED:20201115T114544Z
UID:796-1615420800-1615507199@andjar.firmansjah.id
SUMMARY:Isra Mikraj Nabi Muhammad SAW
DESCRIPTION:
URL:https://andjar.firmansjah.id/events/isra-mikraj-nabi-muhammad-saw/
END:VEVENT
BEGIN:VEVENT
DTSTART;VALUE=DATE:20210212
DTEND;VALUE=DATE:20210213
DTSTAMP:20260421T064317
CREATED:20201115T114432Z
LAST-MODIFIED:20201115T114432Z
UID:794-1613088000-1613174399@andjar.firmansjah.id
SUMMARY:Tahun Baru Imlek 2572 Kongzili
DESCRIPTION:
URL:https://andjar.firmansjah.id/events/tahun-baru-imlek-2572-kongzili/
END:VEVENT
BEGIN:VEVENT
DTSTART;VALUE=DATE:20210101
DTEND;VALUE=DATE:20210102
DTSTAMP:20260421T064317
CREATED:20201115T114249Z
LAST-MODIFIED:20201115T114249Z
UID:792-1609459200-1609545599@andjar.firmansjah.id
SUMMARY:Tahun Baru 2021
DESCRIPTION:
URL:https://andjar.firmansjah.id/events/tahun-baru-2021/
END:VEVENT
BEGIN:VEVENT
DTSTART;TZID=Asia/Jakarta:20201225T000000
DTEND;TZID=Asia/Jakarta:20201225T235959
DTSTAMP:20260421T064317
CREATED:20200422T153837Z
LAST-MODIFIED:20200422T153841Z
UID:643-1608854400-1608940799@andjar.firmansjah.id
SUMMARY:Hari Raya Natal
DESCRIPTION:Hari Raya Natal
URL:https://andjar.firmansjah.id/events/hari-raya-natal/
END:VEVENT
BEGIN:VEVENT
DTSTART;TZID=Asia/Jakarta:20201029T000000
DTEND;TZID=Asia/Jakarta:20201029T235959
DTSTAMP:20260421T064317
CREATED:20200422T153730Z
LAST-MODIFIED:20200422T153735Z
UID:641-1603929600-1604015999@andjar.firmansjah.id
SUMMARY:Maulid Nabi Muhammad SAW
DESCRIPTION:Maulid Nabi Muhammad SAW
URL:https://andjar.firmansjah.id/events/maulid-nabi-muhammad-saw/
END:VEVENT
BEGIN:VEVENT
DTSTART;TZID=Asia/Jakarta:20200820T000000
DTEND;TZID=Asia/Jakarta:20200820T235959
DTSTAMP:20260421T064317
CREATED:20200422T153618Z
LAST-MODIFIED:20200422T153623Z
UID:639-1597881600-1597967999@andjar.firmansjah.id
SUMMARY:Tahun Baru Islam 1442H
DESCRIPTION:Tahun Baru Islam 1442H
URL:https://andjar.firmansjah.id/events/tahun-baru-islam-1442h/
END:VEVENT
BEGIN:VEVENT
DTSTART;TZID=Asia/Jakarta:20200817T000000
DTEND;TZID=Asia/Jakarta:20200817T235900
DTSTAMP:20260421T064317
CREATED:20200422T153452Z
LAST-MODIFIED:20200422T154927Z
UID:637-1597622400-1597708740@andjar.firmansjah.id
SUMMARY:Hari Kemerdekaan RI
DESCRIPTION:Hari Kemerdekaan Republik Indonesia\n\n\n\n\n\n\n\nP R O K L A M A S I Kami bangsa Indonesia dengan ini menjatakan kemerdekaan Indonesia. Hal-hal jang mengenai pemindahan kekoeasaan d.l.l.\, diselenggarakandengan tjara saksama dan dalam tempo jang sesingkat-singkatnja. Djakarta\, hari 17 boelan 8 tahoen 05 Atas nama bangsa Indonesia. Soekarno/Hatta.
URL:https://andjar.firmansjah.id/events/hari-kemerdekaan-ri/
END:VEVENT
BEGIN:VEVENT
DTSTART;TZID=Asia/Jakarta:20200731T000000
DTEND;TZID=Asia/Jakarta:20200731T235959
DTSTAMP:20260421T064317
CREATED:20200422T153307Z
LAST-MODIFIED:20200422T153311Z
UID:635-1596153600-1596239999@andjar.firmansjah.id
SUMMARY:Hari Raya Iedul Adha 1441H
DESCRIPTION:Hari Raya Iedul Adha 1441H
URL:https://andjar.firmansjah.id/events/hari-raya-iedul-adha-1441h/
END:VEVENT
BEGIN:VEVENT
DTSTART;TZID=Asia/Jakarta:20200601T000000
DTEND;TZID=Asia/Jakarta:20200601T235959
DTSTAMP:20260421T064317
CREATED:20200422T153133Z
LAST-MODIFIED:20200422T153138Z
UID:633-1590969600-1591055999@andjar.firmansjah.id
SUMMARY:Hari Lahir Pancasila
DESCRIPTION:Hari Lahir Pancasila
URL:https://andjar.firmansjah.id/events/hari-lahir-pancasila/
END:VEVENT
END:VCALENDAR